BEGIN:VCALENDAR
PRODID:-//eluceo/ical//2.0/EN
VERSION:2.0
CALSCALE:GREGORIAN
BEGIN:VEVENT
UID:e328a75095409988c82b9a6a2ff40192
DTSTAMP:20260422T103342Z
SUMMARY:22 juin 2019 : Conférence de district
DESCRIPTION:Comme annoncé\, notre Conférence de District se tiendra le
  samedi 22 juin 2019 à Vannes au Palais des Arts.\nLes inscriptions se 
 feront cette année en ligne.\n\nLe lien  pour ces inscriptions \n \n 
                                   Conférence du district
  1650 - Vannes 2019   \n\nne devra être utilisé que par le membre de
  chaque club\, désigné par son club pour saisir les inscriptions de cha
 cun des Rotariens du club participants ainsi que de leurs accompagnants.\n
 \nnotice explicative du processus d'inscription\n\nL'inscription doit êtr
 e faite dès que possible et au plus tard le 31 mai.\n\nSeul le Rotarien 
 désigné pour l'inscription doit se charger de cette opération afin d'é
 viter les doublons\, sources de complications.\n\nProgramme
URL:https://rotary-bretagne-mayenne.org/en/agenda/show/16070
DTSTART;TZID=Europe/Zurich:20190622T083000
DTEND;TZID=Europe/Zurich:20190622T163000
LOCATION:Palais des Arts\, place de Bretagne\, 56000 VANNES
CATEGORIES:Rotary
END:VEVENT
BEGIN:VTIMEZONE
TZID:Europe/Zurich
BEGIN:DAYLIGHT
DTSTART:20190622T083000
TZNAME:CEST
TZOFFSETTO:+0200
TZOFFSETFROM:+0200
END:DAYLIGHT
END:VTIMEZONE
END:VCALENDAR
