BEGIN:VCALENDAR
PRODID:-//eluceo/ical//2.0/EN
VERSION:2.0
CALSCALE:GREGORIAN
BEGIN:VEVENT
UID:6cc11c6972a99a0ebc4bea8faf98371d
DTSTAMP:20260422T103054Z
SUMMARY:Visioconférence - Égalité de dignité et de fraternité entre le
 s deux sexes
DESCRIPTION:Evocation dans le cadre d'une lecture théatralisée de la vie 
 de certaines femmes remarquables qui ont oeuvré en faveur des droits des 
 femmes.\n\nRotary Club Saint Malo Jacques Cartier\nSpeaker(s): Annie Boudo
 t\, Sophie Damino-Soisson\, Catherine Estrade\, Ghislaine Fages-Abraham\, 
 Guillaume Guichard\, Patrick Guyard\, Dominique Harley\, Philippe Menoury 
 et Violaine Bara
URL:https://rotary-bretagne-mayenne.org/en/agenda/show/22635
DTSTART;TZID=Europe/Zurich:20210308T210000
DTEND;TZID=Europe/Zurich:20210308T220000
LOCATION:-
CATEGORIES:Rotary
END:VEVENT
BEGIN:VTIMEZONE
TZID:Europe/Zurich
BEGIN:STANDARD
DTSTART:20210308T210000
TZNAME:CET
TZOFFSETTO:+0100
TZOFFSETFROM:+0100
END:STANDARD
END:VTIMEZONE
END:VCALENDAR
