BEGIN:VCALENDAR
PRODID:-//eluceo/ical//2.0/EN
VERSION:2.0
CALSCALE:GREGORIAN
BEGIN:VEVENT
UID:b5d1f65daa94d788c586e6c536ce15c5
DTSTAMP:20260422T103514Z
SUMMARY:24 septembre : rencontres croisées à Ploemel
DESCRIPTION:
URL:https://rotary-bretagne-mayenne.org/en/agenda/show/8918
DTSTART;TZID=Europe/Zurich:20170924T000000
DTEND;TZID=Europe/Zurich:20170924T000000
LOCATION:Ploemel
CATEGORIES:Rotary
END:VEVENT
BEGIN:VTIMEZONE
TZID:Europe/Zurich
BEGIN:DAYLIGHT
DTSTART:20170924T000000
TZNAME:CEST
TZOFFSETTO:+0200
TZOFFSETFROM:+0200
END:DAYLIGHT
END:VTIMEZONE
END:VCALENDAR
